BEGIN:VCALENDAR
VERSION:2.0
PRODID:-//MŠ Březiněves - ECPv5.9.0//NONSGML v1.0//EN
CALSCALE:GREGORIAN
METHOD:PUBLISH
X-WR-CALNAME:MŠ Březiněves
X-ORIGINAL-URL:https://msbrezineves.cz
X-WR-CALDESC:Akce na MŠ Březiněves
BEGIN:VTIMEZONE
TZID:Europe/Prague
BEGIN:DAYLIGHT
TZOFFSETFROM:+0100
TZOFFSETTO:+0200
TZNAME:CEST
DTSTART:20260329T010000
END:DAYLIGHT
BEGIN:STANDARD
TZOFFSETFROM:+0200
TZOFFSETTO:+0100
TZNAME:CET
DTSTART:20261025T010000
END:STANDARD
END:VTIMEZONE
BEGIN:VEVENT
DTSTART;TZID=Europe/Prague:20260615T080000
DTEND;TZID=Europe/Prague:20260619T170000
DTSTAMP:20260425T152856
CREATED:20260420T121521Z
LAST-MODIFIED:20260420T121521Z
UID:1480-1781510400-1781888400@msbrezineves.cz
SUMMARY:Cyklokroužek v MŠ
DESCRIPTION:Pro přihlášené děti
URL:https://msbrezineves.cz/kalendar/cyklokrouzek-v-ms/
CATEGORIES:kalendář,kalendář bez hlavní stránky
END:VEVENT
END:VCALENDAR